fastLiquidAssociation 1.0.0 Tina Gunderson
Snapshot Date: 2014-06-11 17:03:06 -0700 (Wed, 11 Jun 2014) | URL: https://hedgehog.fhcrc.org/bioconductor/branches/RELEASE_2_14/madman/Rpacks/fastLiquidAssociation | Last Changed Rev: 88838 / Revision: 91305 | Last Changed Date: 2014-04-11 14:07:21 -0700 (Fri, 11 Apr 2014) |
| zin2 | Linux (Ubuntu 12.04.4 LTS) / x86_64 | OK | OK | |
moscato2 | Windows Server 2008 R2 Enterprise SP1 (64-bit) / x64 | OK | OK | OK |
petty | Mac OS X Snow Leopard (10.6.8) / x86_64 | OK | OK | OK |
morelia | Mac OS X Mavericks (10.9.2) / x86_64 | OK | OK | [ OK ] |
>>>>>>>
>>>>>>> INSTALLATION WITH 'R CMD INSTALL --preclean --no-multiarch --library=fastLiquidAssociation.buildbin-libdir fastLiquidAssociation_1.0.0.tar.gz'
>>>>>>>
* installing *source* package ‘fastLiquidAssociation’ ...
** R
** data
** inst
** preparing package for lazy loading
==========================================================================
*
* Package WGCNA 1.34 loaded.
*
* Important note: It appears that your system supports multi-threading,
* but it is not enabled within WGCNA in R.
* To allow multi-threading within WGCNA with all available cores, use
*
* allowWGCNAThreads()
*
* within R. Use disableWGCNAThreads() to disable threading if necessary.
* Alternatively, set the following environment variable on your system:
*
* ALLOW_WGCNA_THREADS=<number_of_processors>
*
* for example
*
* ALLOW_WGCNA_THREADS=8
*
* To set the environment variable in linux bash shell, type
*
* export ALLOW_WGCNA_THREADS=8
*
* before running R. Other operating systems or shells will
* have a similar command to achieve the same aim.
*
==========================================================================
** help
*** installing help indices
** building package indices
** installing vignettes
** testing if installed package can be loaded
==========================================================================
*
* Package WGCNA 1.34 loaded.
*
* Important note: It appears that your system supports multi-threading,
* but it is not enabled within WGCNA in R.
* To allow multi-threading within WGCNA with all available cores, use
*
* allowWGCNAThreads()
*
* within R. Use disableWGCNAThreads() to disable threading if necessary.
* Alternatively, set the following environment variable on your system:
*
* ALLOW_WGCNA_THREADS=<number_of_processors>
*
* for example
*
* ALLOW_WGCNA_THREADS=8
*
* To set the environment variable in linux bash shell, type
*
* export ALLOW_WGCNA_THREADS=8
*
* before running R. Other operating systems or shells will
* have a similar command to achieve the same aim.
*
==========================================================================
* DONE (fastLiquidAssociation)