xmapcore 1.15.0 Tim Yates
Snapshot Date: 2013-10-07 17:00:06 -0700 (Mon, 07 Oct 2013) | URL: https://hedgehog.fhcrc.org/bioconductor/trunk/madman/Rpacks/xmapcore | Last Changed Rev: 75270 / Revision: 81259 | Last Changed Date: 2013-04-03 15:06:11 -0700 (Wed, 03 Apr 2013) |
| zin2 | Linux (Ubuntu 12.04.2 LTS) / x86_64 | [ OK ] | OK | |
* checking for file ‘xmapcore/DESCRIPTION’ ... OK
* preparing ‘xmapcore’:
* checking DESCRIPTION meta-information ... OK
* installing the package to build vignettes
* creating vignettes ... OK
* checking for LF line-endings in source and make files
* checking for empty or unneeded directories
* building ‘xmapcore_1.15.0.tar.gz’