* checking for file 'BSgenome/DESCRIPTION' ... OK
* preparing 'BSgenome':
* checking DESCRIPTION meta-information ... OK
* installing the package to re-build vignettes
* Installing *source* package 'BSgenome' ...
** R
** inst
** preparing package for lazy loading
Loading required package: IRanges
Attaching package: 'IRanges'
The following object(s) are masked from package:base :
cbind,
rbind,
sapply
Loading required package: Biostrings
Attaching package: 'Biostrings'
The following object(s) are masked from package:base :
chartr,
order,
substr,
substring
** help
>>> Building/Updating help pages for package 'BSgenome'
Formats: text html latex example
BSParams-class text html latex
BSgenome-class text html latex example
BSgenomeForge text html latex example
available.genomes text html latex example
bsapply text html latex example
getSeq text html latex example
injectSNPs text html latex example
** building package indices ...
* DONE (BSgenome)
* creating vignettes ... OK
* removing junk files
* checking for LF line-endings in source and make files
* checking for empty or unneeded directories
WARNING: directory 'BSgenome/inst/BSgenomeDataPkg-template/inst/extdata' is empty
* building 'BSgenome_1.10.5.tar.gz'