AffymetrixDataTestFiles 0.1.1 Henrik Bengtsson
Snapshot Date: 2009-04-10 00:03:00 -0700 (Fri, 10 Apr 2009) | URL: https://hedgehog.fhcrc.org/bioc-data/trunk/experiment/pkgs/AffymetrixDataTestFiles | Last Changed Rev: 610 / Revision: 760 | Last Changed Date: 2008-04-08 17:50:50 -0700 (Tue, 08 Apr 2008) |
| wilson2 | Linux (openSUSE 10.3) / x86_64 | OK | OK | |
liverpool | Windows Server 2003 R2 (32-bit) / x64 | OK | OK | OK |
pelham | Mac OS X Leopard (10.5.6) / i386 | OK | OK | [ OK ] |
INSTALLATION WITH 'R CMD INSTALL --library=AffymetrixDataTestFiles.buildbin-libdir AffymetrixDataTestFiles_0.1.1.tar.gz'
* Installing *source* package 'AffymetrixDataTestFiles' ...
** R
** inst
** preparing package for lazy loading
** help
>>> Building/Updating help pages for package 'AffymetrixDataTestFiles'
Formats: text html latex example
AffymetrixDataTestFiles-package text html latex
** building package indices ...
* DONE (AffymetrixDataTestFiles)