ITALICSData 2.0.0 Guillem Rigaill
Snapshot Date: 2009-04-10 00:03:00 -0700 (Fri, 10 Apr 2009) | URL: https://hedgehog.fhcrc.org/bioc-data/trunk/experiment/pkgs/ITALICSData | Last Changed Rev: 679 / Revision: 760 | Last Changed Date: 2008-06-30 14:13:02 -0700 (Mon, 30 Jun 2008) |
| wilson2 | Linux (openSUSE 10.3) / x86_64 | OK | OK | |
liverpool | Windows Server 2003 R2 (32-bit) / x64 | OK | [ OK ] | OK |
pelham | Mac OS X Leopard (10.5.6) / i386 | OK | OK | OK |
* checking for working pdflatex ... OK
* using log directory 'E:/biocbld/bbs-2.3-data-experiment/meat/ITALICSData.Rcheck'
* using R version 2.8.1 (2008-12-22)
* using session charset: ISO8859-1
* checking for file 'ITALICSData/DESCRIPTION' ... OK
* this is package 'ITALICSData' version '2.0.0'
* checking package dependencies ... OK
* checking if this is a source package ... OK
* checking whether package 'ITALICSData' can be installed ... OK
* checking package directory ... OK
* checking for portable file names ... OK
* checking DESCRIPTION meta-information ... OK
* checking top-level files ... OK
* checking index information ... OK
* checking package subdirectories ... OK
* checking whether the package can be loaded ... OK
* checking whether the package can be loaded with stated dependencies ... OK
* checking Rd files ... OK
* checking Rd cross-references ... OK
* checking for missing documentation entries ... OK
* checking for code/documentation mismatches ... OK
* checking Rd \usage sections ... OK
* checking data for non-ASCII characters ... OK
* creating ITALICSData-Ex.R ... OK
* checking examples ... OK
* creating ITALICSData-manual.tex ... OK
* checking ITALICSData-manual.tex using pdflatex ... OK
installing R.css in E:/biocbld/bbs-2.3-data-experiment/meat/ITALICSData.Rcheck
---------- Making package ITALICSData ------------
adding build stamp to DESCRIPTION
no R files in this package
installing data files
installing man source files
installing indices
not zipping data
installing help
>>> Building/Updating help pages for package 'ITALICSData'
Formats: text html latex example chm
Note: removing empty section \source in file 'Hind.QuartetEffect.Rd'
Note: removing empty section \usage in file 'Hind.QuartetEffect.Rd'
Note: removing empty section \format in file 'Hind.QuartetEffect.Rd'
Note: removing empty section \references in file 'Hind.QuartetEffect.Rd'
Note: removing empty section \source in file 'Hind.QuartetEffect.Rd'
Note: removing empty section \usage in file 'Hind.QuartetEffect.Rd'
Note: removing empty section \format in file 'Hind.QuartetEffect.Rd'
Note: removing empty section \references in file 'Hind.QuartetEffect.Rd'
Hind.QuartetEffect text html latex chm
Note: removing empty section \source in file 'Nsp.QuartetEffect.Rd'
Note: removing empty section \usage in file 'Nsp.QuartetEffect.Rd'
Note: removing empty section \format in file 'Nsp.QuartetEffect.Rd'
Note: removing empty section \references in file 'Nsp.QuartetEffect.Rd'
Note: removing empty section \source in file 'Nsp.QuartetEffect.Rd'
Note: removing empty section \usage in file 'Nsp.QuartetEffect.Rd'
Note: removing empty section \format in file 'Nsp.QuartetEffect.Rd'
Note: removing empty section \references in file 'Nsp.QuartetEffect.Rd'
Nsp.QuartetEffect text html latex chm
Note: removing empty section \source in file 'Sty.QuartetEffect.Rd'
Note: removing empty section \usage in file 'Sty.QuartetEffect.Rd'
Note: removing empty section \format in file 'Sty.QuartetEffect.Rd'
Note: removing empty section \references in file 'Sty.QuartetEffect.Rd'
Note: removing empty section \source in file 'Sty.QuartetEffect.Rd'
Note: removing empty section \usage in file 'Sty.QuartetEffect.Rd'
Note: removing empty section \format in file 'Sty.QuartetEffect.Rd'
Note: removing empty section \references in file 'Sty.QuartetEffect.Rd'
Sty.QuartetEffect text html latex chm
Note: removing empty section \source in file 'Xba.QuartetEffect.Rd'
Note: removing empty section \usage in file 'Xba.QuartetEffect.Rd'
Note: removing empty section \format in file 'Xba.QuartetEffect.Rd'
Note: removing empty section \references in file 'Xba.QuartetEffect.Rd'
Note: removing empty section \source in file 'Xba.QuartetEffect.Rd'
Note: removing empty section \usage in file 'Xba.QuartetEffect.Rd'
Note: removing empty section \format in file 'Xba.QuartetEffect.Rd'
Note: removing empty section \references in file 'Xba.QuartetEffect.Rd'
Xba.QuartetEffect text html latex chm
Note: removing empty section \source in file 'quartetInfo.Rd'
Note: removing empty section \format in file 'quartetInfo.Rd'
Note: removing empty section \references in file 'quartetInfo.Rd'
Note: removing empty section \source in file 'quartetInfo.Rd'
Note: removing empty section \format in file 'quartetInfo.Rd'
Note: removing empty section \references in file 'quartetInfo.Rd'
quartetInfo text html latex chm
Note: removing empty section \source in file 'snpInfo.Rd'
Note: removing empty section \format in file 'snpInfo.Rd'
Note: removing empty section \references in file 'snpInfo.Rd'
Note: removing empty section \source in file 'snpInfo.Rd'
Note: removing empty section \format in file 'snpInfo.Rd'
Note: removing empty section \references in file 'snpInfo.Rd'
snpInfo text html latex chm
Microsoft HTML Help Compiler 4.74.8702
Compiling e:\biocbld\bbs-2.3-data-experiment\meat\ITALICSData.Rcheck\00_pkg_src\ITALICSData\chm\ITALICSData.chm
Compile time: 0 minutes, 0 seconds
7 Topics
12 Local links
0 Internet links
1 Graphic
Created e:\biocbld\bbs-2.3-data-experiment\meat\ITALICSData.Rcheck\00_pkg_src\ITALICSData\chm\ITALICSData.chm, 16,006 bytes
Compression increased file by 3,352 bytes.
adding MD5 sums
* DONE (ITALICSData)