Neve2006 0.1.6 VJ Carey
Snapshot Date: 2009-04-10 00:03:00 -0700 (Fri, 10 Apr 2009) | URL: https://hedgehog.fhcrc.org/bioc-data/trunk/experiment/pkgs/Neve2006 | Last Changed Rev: 737 / Revision: 760 | Last Changed Date: 2008-10-30 14:43:37 -0700 (Thu, 30 Oct 2008) |
| wilson2 | Linux (openSUSE 10.3) / x86_64 | OK | OK | |
liverpool | Windows Server 2003 R2 (32-bit) / x64 | [ OK ] | OK | OK |
pelham | Mac OS X Leopard (10.5.6) / i386 | OK | OK | OK |
* checking for file 'Neve2006/DESCRIPTION' ... OK
* preparing 'Neve2006':
* checking DESCRIPTION meta-information ... OK
* installing the package to re-build vignettes
installing R.css in E:/biocbld/bbs-2.3-data-experiment/tmpdir/Rinst376486190
---------- Making package Neve2006 ------------
adding build stamp to DESCRIPTION
installing R files
installing inst files
installing data files
preparing package Neve2006 for lazy loading
Loading required package: tools
Loading required package: Biobase
Welcome to Bioconductor
Vignettes contain introductory material. To view, type
'openVignette()'. To cite Bioconductor, see
'citation("Biobase")' and for packages 'citation(pkgname)'.
Loading required package: hgu133a.db
Loading required package: AnnotationDbi
Loading required package: DBI
Loading required package: annotate
Loading required package: xtable
installing man source files
installing indices
not zipping data
installing help
>>> Building/Updating help pages for package 'Neve2006'
Formats: text html latex example chm
cghExSet-class text html latex example chm
logRatios text html latex example chm
neveCGHmatch text html latex example chm
Microsoft HTML Help Compiler 4.74.8702
Compiling e:\biocbld\bbs-2.3-data-experiment\meat\Neve2006\chm\Neve2006.chm
Compile time: 0 minutes, 0 seconds
4 Topics
21 Local links
0 Internet links
1 Graphic
Created e:\biocbld\bbs-2.3-data-experiment\meat\Neve2006\chm\Neve2006.chm, 19,705 bytes
Compression increased file by 995 bytes.
adding MD5 sums
* DONE (Neve2006)
* creating vignettes ... OK
* removing junk files
* checking for LF line-endings in source and make files
* checking for empty or unneeded directories
* building 'Neve2006_0.1.6.tar.gz'