bronchialIL13 1.0-3 Vince Carey
Snapshot Date: 2009-04-10 00:03:00 -0700 (Fri, 10 Apr 2009) | URL: https://hedgehog.fhcrc.org/bioc-data/trunk/experiment/pkgs/bronchialIL13 | Last Changed Rev: 435 / Revision: 760 | Last Changed Date: 2007-09-07 20:25:17 -0700 (Fri, 07 Sep 2007) |
| wilson2 | Linux (openSUSE 10.3) / x86_64 | OK | OK | |
liverpool | Windows Server 2003 R2 (32-bit) / x64 | OK | OK | [ OK ] |
pelham | Mac OS X Leopard (10.5.6) / i386 | OK | OK | OK |
installing R.css in E:/biocbld/bbs-2.3-data-experiment/meat/bronchialIL13.buildbin-libdir
Using auto-selected zip options 'bronchialIL13-ZIPDATA=zip'
---------- Making package bronchialIL13 ------------
adding build stamp to DESCRIPTION
no R files in this package
installing inst files
installing data files
installing man source files
installing indices
zipping data
installing help
>>> Building/Updating help pages for package 'bronchialIL13'
Formats: text html latex example chm
il13tc text html latex example chm
Microsoft HTML Help Compiler 4.74.8702
Compiling e:\biocbld\bbs-2.3-data-experiment\meat\R.INSTALL.4304\bronchialIL13\chm\bronchialIL13.chm
Compile time: 0 minutes, 0 seconds
2 Topics
3 Local links
1 Internet link
1 Graphic
Created e:\biocbld\bbs-2.3-data-experiment\meat\R.INSTALL.4304\bronchialIL13\chm\bronchialIL13.chm, 16,268 bytes
Compression increased file by 8,753 bytes.
adding MD5 sums
packaged installation of package 'bronchialIL13' as bronchialIL13_1.0-3.zip
* DONE (bronchialIL13)