gcspikelite 1.0.1 Mark Robinson
Snapshot Date: 2009-04-10 00:03:00 -0700 (Fri, 10 Apr 2009) | URL: https://hedgehog.fhcrc.org/bioc-data/trunk/experiment/pkgs/gcspikelite | Last Changed Rev: 736 / Revision: 760 | Last Changed Date: 2008-10-28 14:22:19 -0700 (Tue, 28 Oct 2008) |
| wilson2 | Linux (openSUSE 10.3) / x86_64 | OK | WARNINGS | |
liverpool | Windows Server 2003 R2 (32-bit) / x64 | OK | WARNINGS | [ OK ] |
pelham | Mac OS X Leopard (10.5.6) / i386 | OK | WARNINGS | OK |
installing R.css in E:/biocbld/bbs-2.3-data-experiment/meat/gcspikelite.buildbin-libdir
Using auto-selected zip options ''
---------- Making package gcspikelite ------------
adding build stamp to DESCRIPTION
installing R files
installing data files
preparing package gcspikelite for lazy loading
no man files in this package
installing indices
not zipping data
installing help
adding MD5 sums
packaged installation of package 'gcspikelite' as gcspikelite_1.0.1.zip
* DONE (gcspikelite)