humanStemCell 0.2.0 R. Gentleman
Snapshot Date: 2009-04-10 00:03:00 -0700 (Fri, 10 Apr 2009) | URL: https://hedgehog.fhcrc.org/bioc-data/trunk/experiment/pkgs/humanStemCell | Last Changed Rev: 634 / Revision: 760 | Last Changed Date: 2008-04-16 12:30:31 -0700 (Wed, 16 Apr 2008) |
| wilson2 | Linux (openSUSE 10.3) / x86_64 | OK | WARNINGS | |
liverpool | Windows Server 2003 R2 (32-bit) / x64 | OK | WARNINGS | [ OK ] |
pelham | Mac OS X Leopard (10.5.6) / i386 | OK | WARNINGS | OK |
installing R.css in E:/biocbld/bbs-2.3-data-experiment/meat/humanStemCell.buildbin-libdir
Using auto-selected zip options 'humanStemCell-ZIPDATA=zip'
---------- Making package humanStemCell ------------
adding build stamp to DESCRIPTION
no R files in this package
installing inst files
installing data files
no man files in this package
installing indices
zipping data
installing help
adding MD5 sums
packaged installation of package 'humanStemCell' as humanStemCell_0.2.0.zip
* DONE (humanStemCell)