tinesath1cdf 1.0.2 Tine Casneuf
Snapshot Date: 2009-04-10 00:03:00 -0700 (Fri, 10 Apr 2009) | URL: https://hedgehog.fhcrc.org/bioc-data/trunk/experiment/pkgs/tinesath1cdf | Last Changed Rev: 362 / Revision: 760 | Last Changed Date: 2007-07-06 08:47:27 -0700 (Fri, 06 Jul 2007) |
| wilson2 | Linux (openSUSE 10.3) / x86_64 | OK | OK | |
liverpool | Windows Server 2003 R2 (32-bit) / x64 | OK | OK | [ OK ] |
pelham | Mac OS X Leopard (10.5.6) / i386 | OK | OK | OK |
installing R.css in E:/biocbld/bbs-2.3-data-experiment/meat/tinesath1cdf.buildbin-libdir
Using auto-selected zip options 'tinesath1cdf-ZIPDATA=zip'
---------- Making package tinesath1cdf ------------
adding build stamp to DESCRIPTION
installing R files
installing data files
preparing package tinesath1cdf for lazy loading
installing man source files
installing indices
zipping data
installing help
>>> Building/Updating help pages for package 'tinesath1cdf'
Formats: text html latex example chm
geometry text html latex example chm
tinesath1cdf text html latex chm
Microsoft HTML Help Compiler 4.74.8702
Compiling e:\biocbld\bbs-2.3-data-experiment\meat\R.INSTALL.7080\tinesath1cdf\chm\tinesath1cdf.chm
Compile time: 0 minutes, 0 seconds
3 Topics
5 Local links
0 Internet links
1 Graphic
Created e:\biocbld\bbs-2.3-data-experiment\meat\R.INSTALL.7080\tinesath1cdf\chm\tinesath1cdf.chm, 16,349 bytes
Compression increased file by 7,595 bytes.
adding MD5 sums
packaged installation of package 'tinesath1cdf' as tinesath1cdf_1.0.2.zip
* DONE (tinesath1cdf)