Back to the "Multiple platform build/check report"

Package 41/65HostnameOS / ArchBUILDCHECKBUILD BIN
lumiBarnes 1.3.4
Pan Du
Snapshot Date: 2009-08-10 00:27:00 -0700 (Mon, 10 Aug 2009)
URL: https://hedgehog.fhcrc.org/bioc-data/trunk/experiment/pkgs/lumiBarnes
Last Changed Rev: 912 / Revision: 938
Last Changed Date: 2009-07-24 17:56:18 -0700 (Fri, 24 Jul 2009)
wilson1 Linux (openSUSE 11.1) / x86_64  OK  ERROR 
liverpool Windows Server 2003 R2 (32-bit) / x64  OK  ERROR [ OK ]
pitt Mac OS X Tiger (10.4.11) / i386  OK  ERROR  OK 
pelham Mac OS X Leopard (10.5.7) / i386  OK  ERROR  OK 
Package: lumiBarnes
Version: 1.3.4
Command: E:\biocbld\bbs-2.4-bioc\R\bin\R.exe CMD INSTALL --build --library=lumiBarnes.buildbin-libdir lumiBarnes_1.3.4.tar.gz
StartedAt: 2009-08-10 03:05:03 -0700 (Mon, 10 Aug 2009)
EndedAt: 2009-08-10 03:05:09 -0700 (Mon, 10 Aug 2009)
EllapsedTime: 5.5 seconds
RetCode: 0
Status: OK
PackageFile: lumiBarnes_1.3.4.zip
PackageFileSize: 5.003 MiB

Command output

* Installing *source* package 'lumiBarnes' ...

  Using auto-selected zip options '--use-zip-data '

** data
** help
*** installing help indices
 >>> Building/Updating help pages for package 'lumiBarnes'
     Formats: text html latex example chm 
  lumiBarnes                        text    html    latex   example chm
Microsoft HTML Help Compiler 4.74.8702



Compiling e:\biocbld\bbs-2.4-data-experiment\tmpdir\Rtmp7olsZb\R.INSTALL678418be\lumiBarnes\chm\lumiBarnes.chm





Compile time: 0 minutes, 0 seconds

2	Topics

2	Local links

0	Internet links

1	Graphic





Created e:\biocbld\bbs-2.4-data-experiment\tmpdir\Rtmp7olsZb\R.INSTALL678418be\lumiBarnes\chm\lumiBarnes.chm, 17,019 bytes

Compression increased file by 9,163 bytes.

** building package indices ...
** MD5 sums
packaged installation of 'lumiBarnes' as lumiBarnes_1.3.4.zip
* DONE (lumiBarnes)