AffyCompatible 1.6.1 Martin Morgan
Snapshot Date: 2010-04-02 23:28:25 -0700 (Fri, 02 Apr 2010) | URL: https://hedgehog.fhcrc.org/bioconductor/branches/RELEASE_2_5/madman/Rpacks/AffyCompatible | Last Changed Rev: 44601 / Revision: 45705 | Last Changed Date: 2010-02-09 17:07:41 -0800 (Tue, 09 Feb 2010) |
| wilson2 | Linux (openSUSE 11.1) / x86_64 | TIMEOUT | skipped | |
liverpool | Windows Server 2003 R2 (32-bit) / x64 | TIMEOUT | skipped | skipped |
pitt | Mac OS X Tiger (10.4.11) / i386 | [ TIMEOUT ] | skipped | skipped |
pelham | Mac OS X Leopard (10.5.8) / i386 | TIMEOUT | skipped | skipped |
* checking for file 'AffyCompatible/DESCRIPTION' ... OK
* preparing 'AffyCompatible':
* checking DESCRIPTION meta-information ... OK
* installing the package to re-build vignettes
* installing *source* package ‘AffyCompatible’ ...
** R
** inst
** preparing package for lazy loading
Loading required package: bitops
** help
*** installing help indices
** building package indices ...
* DONE (AffyCompatible)
* creating vignettes ...