Back to the "Multiple platform build/check report" | A B [C] D E F G H I J K L M N O P Q R S T U V W X Y Z |
Package 68/353 | Hostname | OS / Arch | BUILD | CHECK | BUILD BIN | ||||
ChemmineR 1.6.0 Y. Eddie Cao
| wilson2 | Linux (openSUSE 11.1) / x86_64 | OK | OK | |||||
liverpool | Windows Server 2003 R2 (32-bit) / x64 | OK | ERROR | [ OK ] | |||||
pitt | Mac OS X Tiger (10.4.11) / i386 | OK | OK | OK | |||||
pelham | Mac OS X Leopard (10.5.8) / i386 | ERROR | skipped | skipped |
Package: ChemmineR |
Version: 1.6.0 |
Command: E:\biocbld\bbs-2.5-bioc\R\bin\R.exe CMD INSTALL --build --library=ChemmineR.buildbin-libdir ChemmineR_1.6.0.tar.gz |
StartedAt: 2010-04-03 07:04:41 -0700 (Sat, 03 Apr 2010) |
EndedAt: 2010-04-03 07:04:52 -0700 (Sat, 03 Apr 2010) |
EllapsedTime: 10.5 seconds |
RetCode: 0 |
Status: OK |
PackageFile: ChemmineR_1.6.0.zip |
PackageFileSize: 748.3 KiB |
* installing *source* package 'ChemmineR' ... ** R ** inst ** preparing package for lazy loading ** help *** installing help indices ** building package indices ... ** MD5 sums packaged installation of 'ChemmineR' as ChemmineR_1.6.0.zip * DONE (ChemmineR)