Back to the "Multiple platform build/check report" | A B C [D] E F G H I J K L M N O P Q R S T U V W X Y Z |
Package 100/353 | Hostname | OS / Arch | BUILD | CHECK | BUILD BIN | ||||
DynDoc 1.24.0 Biocore Team c/o BioC user list
| wilson2 | Linux (openSUSE 11.1) / x86_64 | OK | OK | |||||
liverpool | Windows Server 2003 R2 (32-bit) / x64 | OK | OK | [ OK ] | |||||
pitt | Mac OS X Tiger (10.4.11) / i386 | OK | OK | OK | |||||
pelham | Mac OS X Leopard (10.5.8) / i386 | OK | OK | OK |
Package: DynDoc |
Version: 1.24.0 |
Command: E:\biocbld\bbs-2.5-bioc\R\bin\R.exe CMD INSTALL --build --library=DynDoc.buildbin-libdir DynDoc_1.24.0.tar.gz |
StartedAt: 2010-04-03 07:06:44 -0700 (Sat, 03 Apr 2010) |
EndedAt: 2010-04-03 07:06:48 -0700 (Sat, 03 Apr 2010) |
EllapsedTime: 4.3 seconds |
RetCode: 0 |
Status: OK |
PackageFile: DynDoc_1.24.0.zip |
PackageFileSize: 96.42 KiB |
* installing *source* package 'DynDoc' ... ** R ** preparing package for lazy loading Creating a new generic function for "summary" in "DynDoc" ** help *** installing help indices ** building package indices ... ** MD5 sums packaged installation of 'DynDoc' as DynDoc_1.24.0.zip * DONE (DynDoc)