lumi 1.12.4 Pan Du
Snapshot Date: 2010-04-02 23:28:25 -0700 (Fri, 02 Apr 2010) | URL: https://hedgehog.fhcrc.org/bioconductor/branches/RELEASE_2_5/madman/Rpacks/lumi | Last Changed Rev: 44998 / Revision: 45705 | Last Changed Date: 2010-03-02 19:50:56 -0800 (Tue, 02 Mar 2010) |
| wilson2 | Linux (openSUSE 11.1) / x86_64 | OK | WARNINGS | |
liverpool | Windows Server 2003 R2 (32-bit) / x64 | OK | WARNINGS | OK |
pitt | Mac OS X Tiger (10.4.11) / i386 | [ OK ] | WARNINGS | OK |
pelham | Mac OS X Leopard (10.5.8) / i386 | OK | WARNINGS | OK |
* checking for file 'lumi/DESCRIPTION' ... OK
* preparing 'lumi':
* checking DESCRIPTION meta-information ... OK
* installing the package to re-build vignettes
* installing *source* package ‘lumi’ ...
** R
** data
** inst
** preparing package for lazy loading
Loading required package: AnnotationDbi
Loading required package: Biobase
Welcome to Bioconductor
Vignettes contain introductory material. To view, type
'openVignette()'. To cite Bioconductor, see
'citation("Biobase")' and for packages 'citation(pkgname)'.
This is mgcv 1.6-1. For overview type `help("mgcv-package")'.
Loading required package: DBI
Creating a new generic function for "density" in "lumi"
Creating a new generic function for "pairs" in "lumi"
Creating a new generic function for "plot" in "lumi"
** help
*** installing help indices
** building package indices ...
* DONE (lumi)
* creating vignettes ... OK
* removing junk files
* checking for LF line-endings in source and make files
* checking for empty or unneeded directories
* building 'lumi_1.12.4.tar.gz'