Back to the "Multiple platform build/check report" | A B C D E F G H I J K L M N O [P] Q R S T U V W X Y Z |
Package 253/353 | Hostname | OS / Arch | BUILD | CHECK | BUILD BIN | ||||
pickgene 1.18.0 Brian S. Yandell
| wilson2 | Linux (openSUSE 11.1) / x86_64 | OK | OK | |||||
liverpool | Windows Server 2003 R2 (32-bit) / x64 | OK | OK | [ OK ] | |||||
pitt | Mac OS X Tiger (10.4.11) / i386 | OK | OK | OK | |||||
pelham | Mac OS X Leopard (10.5.8) / i386 | OK | OK | OK |
Package: pickgene |
Version: 1.18.0 |
Command: E:\biocbld\bbs-2.5-bioc\R\bin\R.exe CMD INSTALL --build --library=pickgene.buildbin-libdir pickgene_1.18.0.tar.gz |
StartedAt: 2010-04-03 07:16:17 -0700 (Sat, 03 Apr 2010) |
EndedAt: 2010-04-03 07:16:19 -0700 (Sat, 03 Apr 2010) |
EllapsedTime: 1.7 seconds |
RetCode: 0 |
Status: OK |
PackageFile: pickgene_1.18.0.zip |
PackageFileSize: 173.1 KiB |
* installing *source* package 'pickgene' ... ** R ** inst ** preparing package for lazy loading ** help *** installing help indices ** building package indices ... ** MD5 sums packaged installation of 'pickgene' as pickgene_1.18.0.zip * DONE (pickgene)