makecdfenv 1.26.0 James W. MacDonald
Snapshot Date: 2010-10-04 11:22:20 -0700 (Mon, 04 Oct 2010) | URL: https://hedgehog.fhcrc.org/bioconductor/branches/RELEASE_2_6/madman/Rpacks/makecdfenv | Last Changed Rev: 46401 / Revision: 49923 | Last Changed Date: 2010-04-22 11:21:23 -0700 (Thu, 22 Apr 2010) |
| wilson1 | Linux (openSUSE 11.1) / x86_64 | OK | OK | |
liverpool | Windows Server 2003 R2 (32-bit) / x64 | OK | OK | OK |
gewurz | Windows Server 2008 R2 Enterprise (64-bit) / x64 | OK | OK | OK |
pelham | Mac OS X Leopard (10.5.8) / i386 | OK | OK | [ OK ] |
INSTALLATION WITH 'R CMD INSTALL --preclean --library=makecdfenv.buildbin-libdir makecdfenv_1.26.0.tar.gz'
* installing *source* package ‘makecdfenv’ ...
creating cache ./config.cache
checking how to run the C preprocessor... cc -E
checking for main in -lz... yes
checking for zlib.h... yes
checking if zlib version >= 1.1.3... yes
updating cache ./config.cache
creating ./config.status
creating src/Makevars
** libs
*** arch - i386
gcc -arch i386 -std=gnu99 -I/Library/Frameworks/R.framework/Versions/2.11/Resources/include -I/Library/Frameworks/R.framework/Versions/2.11/Resources/include/i386 -DHAVE_ZLIB=1 -I/usr/local/include -fPIC -g -O2 -Wall -pedantic -c read_cdffile.c -o read_cdffile.o
gcc -arch i386 -std=gnu99 -dynamiclib -Wl,-headerpad_max_install_names -undefined dynamic_lookup -single_module -multiply_defined suppress -L/usr/local/lib -o makecdfenv.so read_cdffile.o -lz -F/Library/Frameworks/R.framework/.. -framework R -Wl,-framework -Wl,CoreFoundation
installing to /Users/biocbuild/bbs-2.6-bioc/meat/makecdfenv.buildbin-libdir/makecdfenv/libs/i386
** R
** inst
** preparing package for lazy loading
** help
*** installing help indices
** building package indices ...
** testing if installed package can be loaded
* DONE (makecdfenv)
INSTALLATION OF ppc LIBS WITH 'R_ARCH=/ppc R CMD INSTALL --preclean --library=makecdfenv.buildbin-libdir --libs-only makecdfenv_1.26.0.tar.gz'
* installing *source* package ‘makecdfenv’ ...
creating cache ./config.cache
checking how to run the C preprocessor... cc -E
checking for main in -lz... yes
checking for zlib.h... yes
checking if zlib version >= 1.1.3... yes
updating cache ./config.cache
creating ./config.status
creating src/Makevars
** libs
*** arch - ppc
gcc -arch ppc -std=gnu99 -I/Library/Frameworks/R.framework/Versions/2.11/Resources/include -I/Library/Frameworks/R.framework/Versions/2.11/Resources/include/ppc -DHAVE_ZLIB=1 -I/usr/local/include -fPIC -g -O2 -Wall -pedantic -c read_cdffile.c -o read_cdffile.o
gcc -arch ppc -std=gnu99 -dynamiclib -Wl,-headerpad_max_install_names -undefined dynamic_lookup -single_module -multiply_defined suppress -L/usr/local/lib -o makecdfenv.so read_cdffile.o -lz -F/Library/Frameworks/R.framework/.. -framework R -Wl,-framework -Wl,CoreFoundation
installing to /Users/biocbuild/bbs-2.6-bioc/meat/makecdfenv.buildbin-libdir/makecdfenv/libs/ppc
* DONE (makecdfenv)
INSTALLATION OF x86_64 LIBS WITH 'R_ARCH=/x86_64 R CMD INSTALL --preclean --library=makecdfenv.buildbin-libdir --libs-only makecdfenv_1.26.0.tar.gz'
* installing *source* package ‘makecdfenv’ ...
creating cache ./config.cache
checking how to run the C preprocessor... cc -E
checking for main in -lz... yes
checking for zlib.h... yes
checking if zlib version >= 1.1.3... yes
updating cache ./config.cache
creating ./config.status
creating src/Makevars
** libs
*** arch - x86_64
gcc -arch x86_64 -std=gnu99 -I/Library/Frameworks/R.framework/Versions/2.11/Resources/include -I/Library/Frameworks/R.framework/Versions/2.11/Resources/include/x86_64 -DHAVE_ZLIB=1 -I/usr/local/include -fPIC -g -O2 -Wall -pedantic -c read_cdffile.c -o read_cdffile.o
gcc -arch x86_64 -std=gnu99 -dynamiclib -Wl,-headerpad_max_install_names -undefined dynamic_lookup -single_module -multiply_defined suppress -L/usr/local/lib -o makecdfenv.so read_cdffile.o -lz -F/Library/Frameworks/R.framework/.. -framework R -Wl,-framework -Wl,CoreFoundation
installing to /Users/biocbuild/bbs-2.6-bioc/meat/makecdfenv.buildbin-libdir/makecdfenv/libs/x86_64
* DONE (makecdfenv)