Back to the "Multiple platform build/check report" | [A] B C D E F G H I J K L M N O P Q R S T U V W X Y Z |
Package 9/419 | Hostname | OS / Arch | BUILD | CHECK | BUILD BIN | ||||
AffyCompatible 1.10.0 Martin Morgan
| lamb2 | Linux (openSUSE 11.2) / x86_64 | OK | OK | |||||
liverpool | Windows Server 2003 R2 (32-bit) / x64 | OK | OK | OK | |||||
gewurz | Windows Server 2008 R2 Enterprise (64-bit) / x64 | OK | OK | OK | |||||
pelham | Mac OS X Leopard (10.5.8) / i386 | [ OK ] | OK | OK |
Package: AffyCompatible |
Version: 1.10.0 |
Command: /Library/Frameworks/R.framework/Versions/2.12/Resources/bin/R CMD build --keep-empty-dirs AffyCompatible |
StartedAt: 2011-03-31 02:48:37 -0700 (Thu, 31 Mar 2011) |
EndedAt: 2011-03-31 02:50:43 -0700 (Thu, 31 Mar 2011) |
EllapsedTime: 125.6 seconds |
RetCode: 0 |
Status: OK |
PackageFile: AffyCompatible_1.10.0.tar.gz |
PackageFileSize: 218.5 KiB |
Warning: unknown option ‘--keep-empty-dirs’ * checking for file ‘AffyCompatible/DESCRIPTION’ ... OK * preparing ‘AffyCompatible’: * checking DESCRIPTION meta-information ... OK * installing the package to re-build vignettes * creating vignettes ... OK * checking for LF line-endings in source and make files * checking for empty or unneeded directories * building ‘AffyCompatible_1.10.0.tar.gz’