Back to the "Multiple platform build/check report" | [A] B C D E F G H I J K L M N O P Q R S T U V W X Y Z |
Package 22/419 | Hostname | OS / Arch | BUILD | CHECK | BUILD BIN | ||||
AgiMicroRna 1.4.0 Pedro Lopez-Romero
| lamb2 | Linux (openSUSE 11.2) / x86_64 | [ OK ] | OK | |||||
liverpool | Windows Server 2003 R2 (32-bit) / x64 | OK | OK | OK | |||||
gewurz | Windows Server 2008 R2 Enterprise (64-bit) / x64 | OK | OK | OK | |||||
pelham | Mac OS X Leopard (10.5.8) / i386 | OK | OK | OK |
Package: AgiMicroRna |
Version: 1.4.0 |
Command: /home/biocbuild/bbs-2.7-bioc/R/bin/R CMD build AgiMicroRna |
StartedAt: 2011-03-31 02:55:42 -0700 (Thu, 31 Mar 2011) |
EndedAt: 2011-03-31 02:57:06 -0700 (Thu, 31 Mar 2011) |
EllapsedTime: 84.6 seconds |
RetCode: 0 |
Status: OK |
PackageFile: AgiMicroRna_1.4.0.tar.gz |
PackageFileSize: 2.62 MiB |
* checking for file ‘AgiMicroRna/DESCRIPTION’ ... OK * preparing ‘AgiMicroRna’: * checking DESCRIPTION meta-information ... OK * installing the package to re-build vignettes * creating vignettes ... OK * checking for LF line-endings in source and make files * checking for empty or unneeded directories * building ‘AgiMicroRna_1.4.0.tar.gz’