Back to the "Multiple platform build/check report" | A [B] C D E F G H I J K L M N O P Q R S T U V W X Y Z |
Package 61/419 | Hostname | OS / Arch | BUILD | CHECK | BUILD BIN | ||||
BSgenome 1.18.3 H. Pages
| lamb2 | Linux (openSUSE 11.2) / x86_64 | OK | OK | |||||
liverpool | Windows Server 2003 R2 (32-bit) / x64 | OK | OK | OK | |||||
gewurz | Windows Server 2008 R2 Enterprise (64-bit) / x64 | OK | OK | [ OK ] | |||||
pelham | Mac OS X Leopard (10.5.8) / i386 | OK | OK | OK |
Package: BSgenome |
Version: 1.18.3 |
Command: D:\biocbld\bbs-2.7-bioc\R\bin\R.exe CMD INSTALL --build --library=BSgenome.buildbin-libdir BSgenome_1.18.3.tar.gz |
StartedAt: 2011-03-31 11:30:38 -0700 (Thu, 31 Mar 2011) |
EndedAt: 2011-03-31 11:30:46 -0700 (Thu, 31 Mar 2011) |
EllapsedTime: 8.8 seconds |
RetCode: 0 |
Status: OK |
PackageFile: BSgenome_1.18.3.zip |
PackageFileSize: 667.8 KiB |
* installing *source* package 'BSgenome' ... ** R ** inst ** preparing package for lazy loading Attaching package: 'IRanges' The following object(s) are masked from 'package:base': Map, cbind, eval, mapply, order, paste, pmax, pmax.int, pmin, pmin.int, rbind, rep.int, table ** help *** installing help indices ** building package indices ... ** testing if installed package can be loaded * MD5 sums packaged installation of 'BSgenome' as BSgenome_1.18.3.zip * DONE (BSgenome)