Back to the "Multiple platform build/check report" | A [B] C D E F G H I J K L M N O P Q R S T U V W X Y Z |
Package 56/419 | Hostname | OS / Arch | BUILD | CHECK | BUILD BIN | ||||
BioMVCClass 1.18.0 Elizabeth Whalen
| lamb2 | Linux (openSUSE 11.2) / x86_64 | OK | OK | |||||
liverpool | Windows Server 2003 R2 (32-bit) / x64 | OK | OK | OK | |||||
gewurz | Windows Server 2008 R2 Enterprise (64-bit) / x64 | OK | OK | [ OK ] | |||||
pelham | Mac OS X Leopard (10.5.8) / i386 | OK | OK | OK |
Package: BioMVCClass |
Version: 1.18.0 |
Command: D:\biocbld\bbs-2.7-bioc\R\bin\R.exe CMD INSTALL --build --library=BioMVCClass.buildbin-libdir BioMVCClass_1.18.0.tar.gz |
StartedAt: 2011-03-31 11:30:22 -0700 (Thu, 31 Mar 2011) |
EndedAt: 2011-03-31 11:30:27 -0700 (Thu, 31 Mar 2011) |
EllapsedTime: 4.5 seconds |
RetCode: 0 |
Status: OK |
PackageFile: BioMVCClass_1.18.0.zip |
PackageFileSize: 211.9 KiB |
* installing *source* package 'BioMVCClass' ... ** R ** inst ** preparing package for lazy loading Welcome to Bioconductor Vignettes contain introductory material. To view, type 'openVignette()'. To cite Bioconductor, see 'citation("Biobase")' and for packages 'citation(pkgname)'. Loading required package: grid Warning in fun(...) : Rgraphviz built with Graphviz version 2.20.3. Found installed Graphviz version 2.25.20090912.445. This _may_ cause problems. Attaching package: 'Rgraphviz' The following object(s) are masked from 'package:MVCClass': from ** help *** installing help indices ** building package indices ... ** testing if installed package can be loaded * MD5 sums packaged installation of 'BioMVCClass' as BioMVCClass_1.18.0.zip * DONE (BioMVCClass)