* installing *source* package 'CNVtools' ...
Using auto-selected zip option '--use-zip-data'
** libs
x86_64-w64-mingw32-g++ -I"D:/biocbld/bbs-2.7-bioc/R/include" -O2 -Wall -c fitmodel.cpp -o fitmodel.o
x86_64-w64-mingw32-g++ -I"D:/biocbld/bbs-2.7-bioc/R/include" -O2 -Wall -c glm_test.cpp -o glm_test.o
x86_64-w64-mingw32-g++ -I"D:/biocbld/bbs-2.7-bioc/R/include" -O2 -Wall -c mla.cpp -o mla.o
x86_64-w64-mingw32-g++ -I"D:/biocbld/bbs-2.7-bioc/R/include" -O2 -Wall -c routine.cpp -o routine.o
x86_64-w64-mingw32-gcc -I"D:/biocbld/bbs-2.7-bioc/R/include" -O2 -Wall -std=gnu99 -c zeroin.c -o zeroin.o
x86_64-w64-mingw32-g++ -shared -s -static-libgcc -o CNVtools.dll tmp.def fitmodel.o glm_test.o mla.o routine.o zeroin.o -LD:/biocbld/bbs-2.7-bioc/R/bin/x64 -lR
installing to D:/biocbld/bbs-2.7-bioc/meat/CNVtools.buildbin-libdir/CNVtools/libs/x64
** R
** data
** inst
** preparing package for lazy loading
Loading required package: splines
** help
*** installing help indices
** building package indices ...
** testing if installed package can be loaded
* MD5 sums
packaged installation of 'CNVtools' as CNVtools_1.44.0.zip
* DONE (CNVtools)