Back to the "Multiple platform build/check report" | A B [C] D E F G H I J K L M N O P Q R S T U V W X Y Z |
Package 67/419 | Hostname | OS / Arch | BUILD | CHECK | BUILD BIN | ||||
Category 2.16.1 Biocore Team c/o BioC user list
| lamb2 | Linux (openSUSE 11.2) / x86_64 | OK | OK | |||||
liverpool | Windows Server 2003 R2 (32-bit) / x64 | OK | OK | OK | |||||
gewurz | Windows Server 2008 R2 Enterprise (64-bit) / x64 | OK | OK | [ OK ] | |||||
pelham | Mac OS X Leopard (10.5.8) / i386 | OK | OK | OK |
Package: Category |
Version: 2.16.1 |
Command: D:\biocbld\bbs-2.7-bioc\R\bin\R.exe CMD INSTALL --build --library=Category.buildbin-libdir Category_2.16.1.tar.gz |
StartedAt: 2011-03-31 11:31:04 -0700 (Thu, 31 Mar 2011) |
EndedAt: 2011-03-31 11:31:13 -0700 (Thu, 31 Mar 2011) |
EllapsedTime: 8.4 seconds |
RetCode: 0 |
Status: OK |
PackageFile: Category_2.16.1.zip |
PackageFileSize: 861.9 KiB |
* installing *source* package 'Category' ... ** R ** inst ** preparing package for lazy loading Loading required package: Biobase Welcome to Bioconductor Vignettes contain introductory material. To view, type 'openVignette()'. To cite Bioconductor, see 'citation("Biobase")' and for packages 'citation(pkgname)'. ** help *** installing help indices ** building package indices ... ** testing if installed package can be loaded * MD5 sums packaged installation of 'Category' as Category_2.16.1.zip * DONE (Category)