* using log directory 'E:/biocbld/bbs-2.7-bioc/meat/ChemmineR.Rcheck'
* using R version 2.12.2 (2011-02-25)
* using platform: i386-pc-mingw32 (32-bit)
* using session charset: ISO8859-1
* using option '--no-vignettes'
* checking for file 'ChemmineR/DESCRIPTION' ... OK
* checking extension type ... Package
* this is package 'ChemmineR' version '2.2.19'
* checking package name space information ... OK
* checking package dependencies ... OK
* checking if this is a source package ... OK
* checking whether package 'ChemmineR' can be installed ... OK
* checking package directory ... OK
* checking for portable file names ... OK
* checking DESCRIPTION meta-information ... OK
* checking top-level files ... OK
* checking index information ... OK
* checking package subdirectories ... OK
* checking R files for non-ASCII characters ... OK
* checking R files for syntax errors ... OK
* checking whether the package can be loaded ... OK
* checking whether the package can be loaded with stated dependencies ... OK
* checking whether the package can be unloaded cleanly ... OK
* checking whether the name space can be loaded with stated dependencies ... OK
* checking whether the name space can be unloaded cleanly ... OK
* checking for unstated dependencies in R code ... OK
* checking S3 generic/method consistency ... OK
* checking replacement functions ... OK
* checking foreign function calls ... OK
* checking R code for possible problems ... NOTE
.data.frame.to.str: no visible binding for global variable 'string'
.gen_atom_pair: no visible global function definition for
'Descriptors_get_len'
.gen_atom_pair: no visible global function definition for
'Descriptors_get_descriptor'
.parse: no visible global function definition for 'Descriptors'
.parse: no visible global function definition for
'Descriptors_parse_sdf'
cmp.parse: no visible global function definition for 'batch_parse'
cmp.parse1: no visible global function definition for
'delete_Descriptors'
datablock2ma: no visible binding for global variable 'sdfset'
sdf_to_desc: no visible global function definition for
'delete_Descriptors'
sdfs_to_desc: no visible global function definition for 'batch_parse'
* checking Rd files ... OK
* checking Rd metadata ... OK
* checking Rd cross-references ... OK
* checking for missing documentation entries ... OK
* checking for code/documentation mismatches ... OK
* checking Rd \usage sections ... OK
* checking Rd contents ... OK
* checking for unstated dependencies in examples ... OK
* checking data for non-ASCII characters ... OK
* checking examples ... OK
* checking package vignettes in 'inst/doc' ... SKIPPED
* checking PDF version of manual ... OK