Back to the "Multiple platform build/check report" | A B C D E F [G] H I J K L M N O P Q R S T U V W X Y Z |
Package 173/419 | Hostname | OS / Arch | BUILD | CHECK | BUILD BIN | ||||
GEOmetadb 1.10.0 Jack Zhu
| lamb2 | Linux (openSUSE 11.2) / x86_64 | OK | OK | |||||
liverpool | Windows Server 2003 R2 (32-bit) / x64 | OK | OK | OK | |||||
gewurz | Windows Server 2008 R2 Enterprise (64-bit) / x64 | ERROR | skipped | skipped | |||||
pelham | Mac OS X Leopard (10.5.8) / i386 | OK | OK | [ OK ] |
Package: GEOmetadb |
Version: 1.10.0 |
Command: /Users/biocbuild/BBS/utils/build-universal.sh GEOmetadb_1.10.0.tar.gz /Library/Frameworks/R.framework/Versions/2.12/Resources/bin/R GEOmetadb.buildbin-libdir |
StartedAt: 2011-03-31 08:36:50 -0700 (Thu, 31 Mar 2011) |
EndedAt: 2011-03-31 08:36:54 -0700 (Thu, 31 Mar 2011) |
EllapsedTime: 4.4 seconds |
RetCode: 0 |
Status: OK |
PackageFile: GEOmetadb_1.10.0.tgz |
PackageFileSize: 170.6 KiB |
>>>>>>> >>>>>>> INSTALLATION WITH 'R CMD INSTALL --preclean --library=GEOmetadb.buildbin-libdir GEOmetadb_1.10.0.tar.gz' >>>>>>> * installing *source* package ‘GEOmetadb’ ... ** R ** inst ** preparing package for lazy loading Loading required package: Biobase Welcome to Bioconductor Vignettes contain introductory material. To view, type 'openVignette()'. To cite Bioconductor, see 'citation("Biobase")' and for packages 'citation(pkgname)'. Setting options('download.file.method'='curl') Loading required package: DBI ** help *** installing help indices ** building package indices ... ** testing if installed package can be loaded * DONE (GEOmetadb)