Back to the "Multiple platform build/check report" | A B C D E F [G] H I J K L M N O P Q R S T U V W X Y Z |
Package 170/419 | Hostname | OS / Arch | BUILD | CHECK | BUILD BIN | ||||
GenomicFeatures 1.2.5 Biocore Team c/o BioC user list
| lamb2 | Linux (openSUSE 11.2) / x86_64 | OK | ERROR | |||||
liverpool | Windows Server 2003 R2 (32-bit) / x64 | OK | ERROR | [ OK ] | |||||
gewurz | Windows Server 2008 R2 Enterprise (64-bit) / x64 | OK | ERROR | OK | |||||
pelham | Mac OS X Leopard (10.5.8) / i386 | OK | ERROR | OK |
Package: GenomicFeatures |
Version: 1.2.5 |
Command: E:\biocbld\bbs-2.7-bioc\R\bin\R.exe CMD INSTALL --build --library=GenomicFeatures.buildbin-libdir GenomicFeatures_1.2.5.tar.gz |
StartedAt: 2011-03-31 08:57:57 -0700 (Thu, 31 Mar 2011) |
EndedAt: 2011-03-31 08:58:07 -0700 (Thu, 31 Mar 2011) |
EllapsedTime: 10.2 seconds |
RetCode: 0 |
Status: OK |
PackageFile: GenomicFeatures_1.2.5.zip |
PackageFileSize: 513.2 KiB |
* installing *source* package 'GenomicFeatures' ... ** R ** inst ** preparing package for lazy loading Attaching package: 'IRanges' The following object(s) are masked from 'package:base': Map, cbind, eval, mapply, order, paste, pmax, pmax.int, pmin, pmin.int, rbind, rep.int, table ** help *** installing help indices ** building package indices ... ** testing if installed package can be loaded * MD5 sums packaged installation of 'GenomicFeatures' as GenomicFeatures_1.2.5.zip * DONE (GenomicFeatures)