Back to the "Multiple platform build/check report" | A B C D E F G H [I] J K L M N O P Q R S T U V W X Y Z |
Package 213/419 | Hostname | OS / Arch | BUILD | CHECK | BUILD BIN | ||||
IsoGeneGUI 1.2.1 Setia Pramana
| lamb2 | Linux (openSUSE 11.2) / x86_64 | [ OK ] | OK | |||||
liverpool | Windows Server 2003 R2 (32-bit) / x64 | OK | OK | OK | |||||
gewurz | Windows Server 2008 R2 Enterprise (64-bit) / x64 | OK | OK | OK | |||||
pelham | Mac OS X Leopard (10.5.8) / i386 | OK | OK | OK |
Package: IsoGeneGUI |
Version: 1.2.1 |
Command: /home/biocbuild/bbs-2.7-bioc/R/bin/R CMD build IsoGeneGUI |
StartedAt: 2011-03-31 03:31:16 -0700 (Thu, 31 Mar 2011) |
EndedAt: 2011-03-31 03:31:21 -0700 (Thu, 31 Mar 2011) |
EllapsedTime: 4.5 seconds |
RetCode: 0 |
Status: OK |
PackageFile: IsoGeneGUI_1.2.1.tar.gz |
PackageFileSize: 1.901 MiB |
* checking for file ‘IsoGeneGUI/DESCRIPTION’ ... OK * preparing ‘IsoGeneGUI’: * checking DESCRIPTION meta-information ... OK * installing the package to re-build vignettes * creating vignettes ... OK * checking for LF line-endings in source and make files * checking for empty or unneeded directories * building ‘IsoGeneGUI_1.2.1.tar.gz’