* using log directory ‘/Users/biocbuild/bbs-2.7-bioc/meat/MantelCorr.Rcheck’
* using R version 2.12.2 Patched (2011-02-25 r54591)
* using platform: i386-apple-darwin9.8.0 (32-bit)
* using session charset: UTF-8
* using option ‘--no-vignettes’
* checking for file ‘MantelCorr/DESCRIPTION’ ... OK
* this is package ‘MantelCorr’ version ‘1.20.0’
* checking package name space information ... OK
* checking package dependencies ... OK
* checking if this is a source package ... OK
* checking whether package ‘MantelCorr’ can be installed ... OK
* checking package directory ... OK
* checking for portable file names ... OK
* checking for sufficient/correct file permissions ... OK
* checking DESCRIPTION meta-information ... OK
* checking top-level files ... OK
* checking index information ... OK
* checking package subdirectories ... OK
* checking R files for non-ASCII characters ... OK
* checking R files for syntax errors ... OK
* checking whether the package can be loaded ... OK
* checking whether the package can be loaded with stated dependencies ... OK
* checking whether the package can be unloaded cleanly ... OK
* checking whether the name space can be loaded with stated dependencies ... OK
* checking whether the name space can be unloaded cleanly ... OK
* checking for unstated dependencies in R code ... OK
* checking S3 generic/method consistency ... OK
* checking replacement functions ... OK
* checking foreign function calls ... OK
* checking R code for possible problems ... OK
* checking Rd files ... OK
* checking Rd metadata ... OK
* checking Rd cross-references ... OK
* checking for missing documentation entries ... OK
* checking for code/documentation mismatches ... OK
* checking Rd \usage sections ... OK
* checking Rd contents ... OK
* checking for unstated dependencies in examples ... OK
* checking data for non-ASCII characters ... OK
* checking examples ... OK
* checking package vignettes in ‘inst/doc’ ... SKIPPED
* checking PDF version of manual ... OK