Back to the "Multiple platform build/check report" | A B C D E F G H I J K L M N O [P] Q R S T U V W X Y Z |
Package 315/419 | Hostname | OS / Arch | BUILD | CHECK | BUILD BIN | ||||
PROcess 1.26.0 Xiaochun Li
| lamb2 | Linux (openSUSE 11.2) / x86_64 | [ OK ] | OK | |||||
liverpool | Windows Server 2003 R2 (32-bit) / x64 | OK | OK | OK | |||||
gewurz | Windows Server 2008 R2 Enterprise (64-bit) / x64 | OK | OK | OK | |||||
pelham | Mac OS X Leopard (10.5.8) / i386 | OK | OK | OK |
Package: PROcess |
Version: 1.26.0 |
Command: /home/biocbuild/bbs-2.7-bioc/R/bin/R CMD build PROcess |
StartedAt: 2011-03-31 01:14:20 -0700 (Thu, 31 Mar 2011) |
EndedAt: 2011-03-31 01:14:44 -0700 (Thu, 31 Mar 2011) |
EllapsedTime: 23.5 seconds |
RetCode: 0 |
Status: OK |
PackageFile: PROcess_1.26.0.tar.gz |
PackageFileSize: 1.794 MiB |
* checking for file ‘PROcess/DESCRIPTION’ ... OK * preparing ‘PROcess’: * checking DESCRIPTION meta-information ... OK * installing the package to re-build vignettes * creating vignettes ... OK * checking for LF line-endings in source and make files * checking for empty or unneeded directories * building ‘PROcess_1.26.0.tar.gz’