>>>>>>>
>>>>>>> INSTALLATION WITH 'R CMD INSTALL --preclean --library=ROC.buildbin-libdir ROC_1.26.0.tar.gz'
>>>>>>>
* installing *source* package ‘ROC’ ...
** libs
*** arch - i386
g++ -arch i386 -I/Library/Frameworks/R.framework/Versions/2.12/Resources/include -I/Library/Frameworks/R.framework/Versions/2.12/Resources/include/i386 -I/usr/local/include -fPIC -g -O2 -Wall -fasm-blocks -c ROC.cc -o ROC.o
g++ -arch i386 -dynamiclib -Wl,-headerpad_max_install_names -undefined dynamic_lookup -single_module -multiply_defined suppress -L/usr/local/lib -o ROC.so ROC.o -F/Library/Frameworks/R.framework/.. -framework R -Wl,-framework -Wl,CoreFoundation
installing to /Users/biocbuild/bbs-2.7-bioc/meat/ROC.buildbin-libdir/ROC/libs/i386
*** arch - ppc
g++ -arch ppc -I/Library/Frameworks/R.framework/Versions/2.12/Resources/include -I/Library/Frameworks/R.framework/Versions/2.12/Resources/include/ppc -I/usr/local/include -fPIC -g -O2 -Wall -fasm-blocks -c ROC.cc -o ROC.o
g++ -arch ppc -dynamiclib -Wl,-headerpad_max_install_names -undefined dynamic_lookup -single_module -multiply_defined suppress -L/usr/local/lib -o ROC.so ROC.o -F/Library/Frameworks/R.framework/.. -framework R -Wl,-framework -Wl,CoreFoundation
installing to /Users/biocbuild/bbs-2.7-bioc/meat/ROC.buildbin-libdir/ROC/libs/ppc
*** arch - x86_64
g++ -arch x86_64 -I/Library/Frameworks/R.framework/Versions/2.12/Resources/include -I/Library/Frameworks/R.framework/Versions/2.12/Resources/include/x86_64 -I/usr/local/include -fPIC -g -O2 -Wall -fasm-blocks -c ROC.cc -o ROC.o
g++ -arch x86_64 -dynamiclib -Wl,-headerpad_max_install_names -undefined dynamic_lookup -single_module -multiply_defined suppress -L/usr/local/lib -o ROC.so ROC.o -F/Library/Frameworks/R.framework/.. -framework R -Wl,-framework -Wl,CoreFoundation
installing to /Users/biocbuild/bbs-2.7-bioc/meat/ROC.buildbin-libdir/ROC/libs/x86_64
** R
** inst
** preparing package for lazy loading
** help
*** installing help indices
** building package indices ...
** testing if installed package can be loaded
* DONE (ROC)
>>>>>>>
>>>>>>> FIXING LINKS FOR ROC.buildbin-libdir/ROC/libs/i386/ROC.so
>>>>>>>
install_name_tool -change "/usr/local/lib/libgcc_s.1.dylib" "/Library/Frameworks/R.framework/Versions/2.12/Resources/lib/libgcc_s.1.dylib" "ROC.buildbin-libdir/ROC/libs/i386/ROC.so"
install_name_tool -change "/usr/local/lib/libgfortran.2.dylib" "/Library/Frameworks/R.framework/Versions/2.12/Resources/lib/libgfortran.2.dylib" "ROC.buildbin-libdir/ROC/libs/i386/ROC.so"
install_name_tool -change "/usr/local/lib/libreadline.5.2.dylib" "/Library/Frameworks/R.framework/Versions/2.12/Resources/lib/libreadline.5.2.dylib" "ROC.buildbin-libdir/ROC/libs/i386/ROC.so"
install_name_tool -change "/usr/local/lib/libreadline.dylib" "/Library/Frameworks/R.framework/Versions/2.12/Resources/lib/libreadline.dylib" "ROC.buildbin-libdir/ROC/libs/i386/ROC.so"
>>>>>>>
>>>>>>> FIXING LINKS FOR ROC.buildbin-libdir/ROC/libs/ppc/ROC.so
>>>>>>>
install_name_tool -change "/usr/local/lib/libgcc_s.1.dylib" "/Library/Frameworks/R.framework/Versions/2.12/Resources/lib/libgcc_s.1.dylib" "ROC.buildbin-libdir/ROC/libs/ppc/ROC.so"
install_name_tool -change "/usr/local/lib/libgfortran.2.dylib" "/Library/Frameworks/R.framework/Versions/2.12/Resources/lib/libgfortran.2.dylib" "ROC.buildbin-libdir/ROC/libs/ppc/ROC.so"
install_name_tool -change "/usr/local/lib/libreadline.5.2.dylib" "/Library/Frameworks/R.framework/Versions/2.12/Resources/lib/libreadline.5.2.dylib" "ROC.buildbin-libdir/ROC/libs/ppc/ROC.so"
install_name_tool -change "/usr/local/lib/libreadline.dylib" "/Library/Frameworks/R.framework/Versions/2.12/Resources/lib/libreadline.dylib" "ROC.buildbin-libdir/ROC/libs/ppc/ROC.so"
>>>>>>>
>>>>>>> FIXING LINKS FOR ROC.buildbin-libdir/ROC/libs/x86_64/ROC.so
>>>>>>>
install_name_tool -change "/usr/local/lib/libgcc_s.1.dylib" "/Library/Frameworks/R.framework/Versions/2.12/Resources/lib/libgcc_s.1.dylib" "ROC.buildbin-libdir/ROC/libs/x86_64/ROC.so"
install_name_tool -change "/usr/local/lib/libgfortran.2.dylib" "/Library/Frameworks/R.framework/Versions/2.12/Resources/lib/libgfortran.2.dylib" "ROC.buildbin-libdir/ROC/libs/x86_64/ROC.so"
install_name_tool -change "/usr/local/lib/libreadline.5.2.dylib" "/Library/Frameworks/R.framework/Versions/2.12/Resources/lib/libreadline.5.2.dylib" "ROC.buildbin-libdir/ROC/libs/x86_64/ROC.so"
install_name_tool -change "/usr/local/lib/libreadline.dylib" "/Library/Frameworks/R.framework/Versions/2.12/Resources/lib/libreadline.dylib" "ROC.buildbin-libdir/ROC/libs/x86_64/ROC.so"