* installing *source* package 'SAGx' ...
** libs
gcc -I"E:/biocbld/bbs-2.7-bioc/R/include" -O3 -Wall -std=gnu99 -c minigsea.c -o minigsea.o
gcc -I"E:/biocbld/bbs-2.7-bioc/R/include" -O3 -Wall -std=gnu99 -c newboot.c -o newboot.o
gcc -I"E:/biocbld/bbs-2.7-bioc/R/include" -O3 -Wall -std=gnu99 -c samrocNboot.c -o samrocNboot.o
gcc -shared -s -static-libgcc -o SAGx.dll tmp.def minigsea.o newboot.o samrocNboot.o -LE:/biocbld/bbs-2.7-bioc/R/bin/i386 -lR
installing to E:/biocbld/bbs-2.7-bioc/meat/SAGx.buildbin-libdir/SAGx/libs/i386
** R
** inst
** preparing package for lazy loading
Loading required package: Biobase
Welcome to Bioconductor
Vignettes contain introductory material. To view, type
'openVignette()'. To cite Bioconductor, see
'citation("Biobase")' and for packages 'citation(pkgname)'.
** help
*** installing help indices
** building package indices ...
** testing if installed package can be loaded
* MD5 sums
packaged installation of 'SAGx' as SAGx_1.24.0.zip
* DONE (SAGx)