Back to the "Multiple platform build/check report" | [A] B C D E F G H I J K L M N O P Q R S T U V W X Y Z |
Package 8/419 | Hostname | OS / Arch | BUILD | CHECK | BUILD BIN | ||||
affycomp 1.26.0 Rafael A. Irizarry
| lamb2 | Linux (openSUSE 11.2) / x86_64 | OK | OK | |||||
liverpool | Windows Server 2003 R2 (32-bit) / x64 | OK | OK | OK | |||||
gewurz | Windows Server 2008 R2 Enterprise (64-bit) / x64 | OK | OK | OK | |||||
pelham | Mac OS X Leopard (10.5.8) / i386 | [ OK ] | OK | OK |
Package: affycomp |
Version: 1.26.0 |
Command: /Library/Frameworks/R.framework/Versions/2.12/Resources/bin/R CMD build --keep-empty-dirs affycomp |
StartedAt: 2011-03-31 01:39:04 -0700 (Thu, 31 Mar 2011) |
EndedAt: 2011-03-31 01:39:54 -0700 (Thu, 31 Mar 2011) |
EllapsedTime: 49.9 seconds |
RetCode: 0 |
Status: OK |
PackageFile: affycomp_1.26.0.tar.gz |
PackageFileSize: 54.17 MiB |
Warning: unknown option ‘--keep-empty-dirs’ * checking for file ‘affycomp/DESCRIPTION’ ... OK * preparing ‘affycomp’: * checking DESCRIPTION meta-information ... OK * installing the package to re-build vignettes * creating vignettes ... OK * checking for LF line-endings in source and make files * checking for empty or unneeded directories * building ‘affycomp_1.26.0.tar.gz’