Back to the "Multiple platform build/check report" | A [B] C D E F G H I J K L M N O P Q R S T U V W X Y Z |
Package 51/419 | Hostname | OS / Arch | BUILD | CHECK | BUILD BIN | ||||
biocDatasets 1.6.0 L. Gautier
| lamb2 | Linux (openSUSE 11.2) / x86_64 | [ OK ] | WARNINGS | |||||
liverpool | Windows Server 2003 R2 (32-bit) / x64 | OK | WARNINGS | OK | |||||
gewurz | Windows Server 2008 R2 Enterprise (64-bit) / x64 | OK | WARNINGS | OK | |||||
pelham | Mac OS X Leopard (10.5.8) / i386 | OK | WARNINGS | OK |
Package: biocDatasets |
Version: 1.6.0 |
Command: /home/biocbuild/bbs-2.7-bioc/R/bin/R CMD build biocDatasets |
StartedAt: 2011-03-31 02:44:05 -0700 (Thu, 31 Mar 2011) |
EndedAt: 2011-03-31 02:44:20 -0700 (Thu, 31 Mar 2011) |
EllapsedTime: 15.5 seconds |
RetCode: 0 |
Status: OK |
PackageFile: biocDatasets_1.6.0.tar.gz |
PackageFileSize: 161.6 KiB |
* checking for file ‘biocDatasets/DESCRIPTION’ ... OK * preparing ‘biocDatasets’: * checking DESCRIPTION meta-information ... OK * installing the package to re-build vignettes * creating vignettes ... OK * checking for LF line-endings in source and make files * checking for empty or unneeded directories * building ‘biocDatasets_1.6.0.tar.gz’