* installing *source* package 'chipseq' ...
Using auto-selected zip option '--use-zip-data'
** libs
x86_64-w64-mingw32-gcc -I"D:/biocbld/bbs-2.7-bioc/R/include" -O2 -Wall -std=gnu99 -c rlesumprod.c -o rlesumprod.o
rlesumprod.c: In function 'rle_sum_prod':
rlesumprod.c:24:16: warning: operation on 'i1' may be undefined
rlesumprod.c:25:16: warning: operation on 'i2' may be undefined
rlesumprod.c:27:44: warning: operation on 'i1' may be undefined
rlesumprod.c:28:44: warning: operation on 'i2' may be undefined
rlesumprod.c:34:37: warning: operation on 'i1' may be undefined
rlesumprod.c:35:37: warning: operation on 'i2' may be undefined
rlesumprod.c: In function 'rle_sum_any':
rlesumprod.c:61:33: warning: operation on 'i1' may be undefined
rlesumprod.c:62:33: warning: operation on 'i2' may be undefined
x86_64-w64-mingw32-gcc -shared -s -static-libgcc -o chipseq.dll tmp.def rlesumprod.o -LD:/biocbld/bbs-2.7-bioc/R/bin/x64 -lR
installing to D:/biocbld/bbs-2.7-bioc/meat/chipseq.buildbin-libdir/chipseq/libs/x64
** R
** data
** inst
** preparing package for lazy loading
Attaching package: 'IRanges'
The following object(s) are masked from 'package:base':
Map, cbind, eval, mapply, order, paste, pmax, pmax.int, pmin,
pmin.int, rbind, rep.int, table
Loading required package: Biostrings
Loading required package: lattice
Loading required package: Rsamtools
** help
*** installing help indices
** building package indices ...
** testing if installed package can be loaded
* MD5 sums
packaged installation of 'chipseq' as chipseq_1.0.0.zip
* DONE (chipseq)