Back to the "Multiple platform build/check report" | A B C D [E] F G H I J K L M N O P Q R S T U V W X Y Z |
Package 123/419 | Hostname | OS / Arch | BUILD | CHECK | BUILD BIN | ||||
exonmap 2.8.0 Crispin Miller
| lamb2 | Linux (openSUSE 11.2) / x86_64 | OK | OK | |||||
liverpool | Windows Server 2003 R2 (32-bit) / x64 | OK | OK | [ OK ] | |||||
gewurz | Windows Server 2008 R2 Enterprise (64-bit) / x64 | N O T S U P P O R T E D | |||||||
pelham | Mac OS X Leopard (10.5.8) / i386 | OK | OK | OK |
Package: exonmap |
Version: 2.8.0 |
Command: E:\biocbld\bbs-2.7-bioc\R\bin\R.exe CMD INSTALL --build --library=exonmap.buildbin-libdir exonmap_2.8.0.tar.gz |
StartedAt: 2011-03-31 08:55:19 -0700 (Thu, 31 Mar 2011) |
EndedAt: 2011-03-31 08:55:25 -0700 (Thu, 31 Mar 2011) |
EllapsedTime: 5.6 seconds |
RetCode: 0 |
Status: OK |
PackageFile: exonmap_2.8.0.zip |
PackageFileSize: 348.4 KiB |
* installing *source* package 'exonmap' ... ** R ** data ** inst ** preparing package for lazy loading Loading required package: Biobase Welcome to Bioconductor Vignettes contain introductory material. To view, type 'openVignette()'. To cite Bioconductor, see 'citation("Biobase")' and for packages 'citation(pkgname)'. Loading required package: DBI ** help *** installing help indices ** building package indices ... ** testing if installed package can be loaded * MD5 sums packaged installation of 'exonmap' as exonmap_2.8.0.zip * DONE (exonmap)