* installing *source* package 'flowTrans' ...
** R
** inst
** preparing package for lazy loading
Loading required package: Biobase
Welcome to Bioconductor
Vignettes contain introductory material. To view, type
'openVignette()'. To cite Bioconductor, see
'citation("Biobase")' and for packages 'citation(pkgname)'.
Loading required package: rrcov
Loading required package: robustbase
Loading required package: pcaPP
Loading required package: mvtnorm
Scalable Robust Estimators with High Breakdown Point (version 1.1-00)
Attaching package: 'flowCore'
The following object(s) are masked from 'package:stats':
alias, filter
Loading required package: lattice
KernSmooth 2.23 loaded
Copyright M. P. Wand 1997-2009
Loading required package: mnormt
Loading required package: ellipse
Attaching package: 'flowClust'
The following object(s) are masked from 'package:mvtnorm':
dmvt
The following object(s) are masked from 'package:graphics':
box
** help
*** installing help indices
** building package indices ...
** testing if installed package can be loaded
* MD5 sums
packaged installation of 'flowTrans' as flowTrans_1.2.0.zip
* DONE (flowTrans)