Back to the "Multiple platform build/check report" | A B C D E F [G] H I J K L M N O P Q R S T U V W X Y Z |
Package 145/419 | Hostname | OS / Arch | BUILD | CHECK | BUILD BIN | ||||
gaga 1.10.0 David Rossell
| lamb2 | Linux (openSUSE 11.2) / x86_64 | OK | OK | |||||
liverpool | Windows Server 2003 R2 (32-bit) / x64 | OK | OK | [ OK ] | |||||
gewurz | Windows Server 2008 R2 Enterprise (64-bit) / x64 | OK | OK | OK | |||||
pelham | Mac OS X Leopard (10.5.8) / i386 | OK | OK | OK |
Package: gaga |
Version: 1.10.0 |
Command: E:\biocbld\bbs-2.7-bioc\R\bin\R.exe CMD INSTALL --build --library=gaga.buildbin-libdir gaga_1.10.0.tar.gz |
StartedAt: 2011-03-31 08:56:41 -0700 (Thu, 31 Mar 2011) |
EndedAt: 2011-03-31 08:56:57 -0700 (Thu, 31 Mar 2011) |
EllapsedTime: 15.3 seconds |
RetCode: 0 |
Status: OK |
PackageFile: gaga_1.10.0.zip |
PackageFileSize: 381.8 KiB |
* installing *source* package 'gaga' ... ** libs gcc -I"E:/biocbld/bbs-2.7-bioc/R/include" -O3 -Wall -std=gnu99 -c cseqdesma.c -o cseqdesma.o gcc -I"E:/biocbld/bbs-2.7-bioc/R/include" -O3 -Wall -std=gnu99 -c cstat.c -o cstat.o gcc -shared -s -static-libgcc -o gaga.dll tmp.def cseqdesma.o cstat.o -LE:/biocbld/bbs-2.7-bioc/R/bin/i386 -lR installing to E:/biocbld/bbs-2.7-bioc/meat/gaga.buildbin-libdir/gaga/libs/i386 ** R ** inst ** help *** installing help indices ** building package indices ... ** testing if installed package can be loaded * MD5 sums packaged installation of 'gaga' as gaga_1.10.0.zip * DONE (gaga)