Back to the "Multiple platform build/check report" | A B C D E F [G] H I J K L M N O P Q R S T U V W X Y Z |
Package 146/419 | Hostname | OS / Arch | BUILD | CHECK | BUILD BIN | ||||
gage 2.0.0 Weijun Luo
| lamb2 | Linux (openSUSE 11.2) / x86_64 | OK | OK | |||||
liverpool | Windows Server 2003 R2 (32-bit) / x64 | OK | OK | OK | |||||
gewurz | Windows Server 2008 R2 Enterprise (64-bit) / x64 | OK | OK | [ OK ] | |||||
pelham | Mac OS X Leopard (10.5.8) / i386 | OK | OK | OK |
Package: gage |
Version: 2.0.0 |
Command: D:\biocbld\bbs-2.7-bioc\R\bin\R.exe CMD INSTALL --build --library=gage.buildbin-libdir gage_2.0.0.tar.gz |
StartedAt: 2011-03-31 11:35:35 -0700 (Thu, 31 Mar 2011) |
EndedAt: 2011-03-31 11:35:39 -0700 (Thu, 31 Mar 2011) |
EllapsedTime: 3.8 seconds |
RetCode: 0 |
Status: OK |
PackageFile: gage_2.0.0.zip |
PackageFileSize: 1.728 MiB |
* installing *source* package 'gage' ... ** R ** data ** inst ** preparing package for lazy loading Loading required package: Biobase Welcome to Bioconductor Vignettes contain introductory material. To view, type 'openVignette()'. To cite Bioconductor, see 'citation("Biobase")' and for packages 'citation(pkgname)'. ** help *** installing help indices ** building package indices ... ** testing if installed package can be loaded * MD5 sums packaged installation of 'gage' as gage_2.0.0.zip * DONE (gage)