Back to the "Multiple platform build/check report" | A B C D E F [G] H I J K L M N O P Q R S T U V W X Y Z |
Package 187/419 | Hostname | OS / Arch | BUILD | CHECK | BUILD BIN | ||||
gpls 1.22.0 Biocore Team c/o BioC user list
| lamb2 | Linux (openSUSE 11.2) / x86_64 | OK | OK | |||||
liverpool | Windows Server 2003 R2 (32-bit) / x64 | [ OK ] | OK | OK | |||||
gewurz | Windows Server 2008 R2 Enterprise (64-bit) / x64 | OK | OK | OK | |||||
pelham | Mac OS X Leopard (10.5.8) / i386 | OK | OK | OK |
Package: gpls |
Version: 1.22.0 |
Command: chmod a+r gpls -R && E:\biocbld\bbs-2.7-bioc\R\bin\R.exe CMD build --keep-empty-dirs gpls |
StartedAt: 2011-03-31 02:21:19 -0700 (Thu, 31 Mar 2011) |
EndedAt: 2011-03-31 02:21:36 -0700 (Thu, 31 Mar 2011) |
EllapsedTime: 16.4 seconds |
RetCode: 0 |
Status: OK |
PackageFile: gpls_1.22.0.tar.gz |
PackageFileSize: 135 KiB |
Warning: unknown option '--keep-empty-dirs' * checking for file 'gpls/DESCRIPTION' ... OK * preparing 'gpls': * checking DESCRIPTION meta-information ... OK * installing the package to re-build vignettes * creating vignettes ... OK * checking for LF line-endings in source and make files * checking for empty or unneeded directories * building 'gpls_1.22.0.tar.gz'