* installing *source* package 'multtest' ...
Using auto-selected zip option '--use-zip-data'
** libs
x86_64-w64-mingw32-gcc -I"D:/biocbld/bbs-2.7-bioc/R/include" -DUSEDOUBLE -DWINDOWS -O2 -Wall -std=gnu99 -c Rpack.c -o Rpack.o
x86_64-w64-mingw32-gcc -I"D:/biocbld/bbs-2.7-bioc/R/include" -DUSEDOUBLE -DWINDOWS -O2 -Wall -std=gnu99 -c VScount.c -o VScount.o
x86_64-w64-mingw32-gcc -I"D:/biocbld/bbs-2.7-bioc/R/include" -DUSEDOUBLE -DWINDOWS -O2 -Wall -std=gnu99 -c block_sampling_fixed.c -o block_sampling_fixed.o
x86_64-w64-mingw32-gcc -I"D:/biocbld/bbs-2.7-bioc/R/include" -DUSEDOUBLE -DWINDOWS -O2 -Wall -std=gnu99 -c bootloop.c -o bootloop.o
x86_64-w64-mingw32-gcc -I"D:/biocbld/bbs-2.7-bioc/R/include" -DUSEDOUBLE -DWINDOWS -O2 -Wall -std=gnu99 -c mt.c -o mt.o
x86_64-w64-mingw32-gcc -I"D:/biocbld/bbs-2.7-bioc/R/include" -DUSEDOUBLE -DWINDOWS -O2 -Wall -std=gnu99 -c pairt_sampling.c -o pairt_sampling.o
x86_64-w64-mingw32-gcc -I"D:/biocbld/bbs-2.7-bioc/R/include" -DUSEDOUBLE -DWINDOWS -O2 -Wall -std=gnu99 -c pairt_sampling_fixed.c -o pairt_sampling_fixed.o
x86_64-w64-mingw32-gcc -I"D:/biocbld/bbs-2.7-bioc/R/include" -DUSEDOUBLE -DWINDOWS -O2 -Wall -std=gnu99 -c random.c -o random.o
x86_64-w64-mingw32-gcc -I"D:/biocbld/bbs-2.7-bioc/R/include" -DUSEDOUBLE -DWINDOWS -O2 -Wall -std=gnu99 -c sampling.c -o sampling.o
x86_64-w64-mingw32-gcc -I"D:/biocbld/bbs-2.7-bioc/R/include" -DUSEDOUBLE -DWINDOWS -O2 -Wall -std=gnu99 -c sampling_fixed.c -o sampling_fixed.o
x86_64-w64-mingw32-gcc -I"D:/biocbld/bbs-2.7-bioc/R/include" -DUSEDOUBLE -DWINDOWS -O2 -Wall -std=gnu99 -c stat_func.c -o stat_func.o
x86_64-w64-mingw32-gcc -I"D:/biocbld/bbs-2.7-bioc/R/include" -DUSEDOUBLE -DWINDOWS -O2 -Wall -std=gnu99 -c stat_order.c -o stat_order.o
x86_64-w64-mingw32-gcc -shared -s -static-libgcc -o multtest.dll tmp.def Rpack.o VScount.o block_sampling_fixed.o bootloop.o mt.o pairt_sampling.o pairt_sampling_fixed.o random.o sampling.o sampling_fixed.o stat_func.o stat_order.o -lm -LD:/biocbld/bbs-2.7-bioc/R/bin/x64 -lR
installing to D:/biocbld/bbs-2.7-bioc/meat/multtest.buildbin-libdir/multtest/libs/x64
** R
** data
** inst
** preparing package for lazy loading
Welcome to Bioconductor
Vignettes contain introductory material. To view, type
'openVignette()'. To cite Bioconductor, see
'citation("Biobase")' and for packages 'citation(pkgname)'.
Creating a new generic function for "as.list" in "multtest"
** help
*** installing help indices
** building package indices ...
** testing if installed package can be loaded
* MD5 sums
packaged installation of 'multtest' as multtest_2.6.0.zip
* DONE (multtest)