Back to the "Multiple platform build/check report" | A B C D E F G H I J K L M N O P Q R [S] T U V W X Y Z |
Package 375/419 | Hostname | OS / Arch | BUILD | CHECK | BUILD BIN | ||||
simpleaffy 2.26.1 Crispin Miller
| lamb2 | Linux (openSUSE 11.2) / x86_64 | OK | OK | |||||
liverpool | Windows Server 2003 R2 (32-bit) / x64 | OK | OK | OK | |||||
gewurz | Windows Server 2008 R2 Enterprise (64-bit) / x64 | [ OK ] | OK | OK | |||||
pelham | Mac OS X Leopard (10.5.8) / i386 | OK | OK | OK |
Package: simpleaffy |
Version: 2.26.1 |
Command: chmod a+r simpleaffy -R && D:\biocbld\bbs-2.7-bioc\R\bin\R.exe CMD build --keep-empty-dirs simpleaffy |
StartedAt: 2011-03-31 02:20:23 -0700 (Thu, 31 Mar 2011) |
EndedAt: 2011-03-31 02:21:40 -0700 (Thu, 31 Mar 2011) |
EllapsedTime: 77.1 seconds |
RetCode: 0 |
Status: OK |
PackageFile: simpleaffy_2.26.1.tar.gz |
PackageFileSize: 604.4 KiB |
Warning: unknown option '--keep-empty-dirs' * checking for file 'simpleaffy/DESCRIPTION' ... OK * preparing 'simpleaffy': * checking DESCRIPTION meta-information ... OK * cleaning src * installing the package to re-build vignettes * creating vignettes ... OK * cleaning src * checking for LF line-endings in source and make files * checking for empty or unneeded directories * building 'simpleaffy_2.26.1.tar.gz'