Back to the "Multiple platform build/check report" | A B C D E F G H I J K L M N O P Q R [S] T U V W X Y Z |
Package 394/419 | Hostname | OS / Arch | BUILD | CHECK | BUILD BIN | ||||
sscore 1.22.0 Richard Kennedy
| lamb2 | Linux (openSUSE 11.2) / x86_64 | OK | OK | |||||
liverpool | Windows Server 2003 R2 (32-bit) / x64 | OK | OK | OK | |||||
gewurz | Windows Server 2008 R2 Enterprise (64-bit) / x64 | OK | OK | OK | |||||
pelham | Mac OS X Leopard (10.5.8) / i386 | OK | OK | [ OK ] |
Package: sscore |
Version: 1.22.0 |
Command: /Users/biocbuild/BBS/utils/build-universal.sh sscore_1.22.0.tar.gz /Library/Frameworks/R.framework/Versions/2.12/Resources/bin/R sscore.buildbin-libdir |
StartedAt: 2011-03-31 08:54:50 -0700 (Thu, 31 Mar 2011) |
EndedAt: 2011-03-31 08:54:54 -0700 (Thu, 31 Mar 2011) |
EllapsedTime: 4.2 seconds |
RetCode: 0 |
Status: OK |
PackageFile: sscore_1.22.0.tgz |
PackageFileSize: 327.2 KiB |
>>>>>>> >>>>>>> INSTALLATION WITH 'R CMD INSTALL --preclean --library=sscore.buildbin-libdir sscore_1.22.0.tar.gz' >>>>>>> * installing *source* package ‘sscore’ ... ** R ** inst ** preparing package for lazy loading Loading required package: Biobase Welcome to Bioconductor Vignettes contain introductory material. To view, type 'openVignette()'. To cite Bioconductor, see 'citation("Biobase")' and for packages 'citation(pkgname)'. ** help *** installing help indices ** building package indices ... ** testing if installed package can be loaded * DONE (sscore)