Back to the "Multiple platform build/check report" | A B C D E F G H I J K L M N O P Q R S [T] U V W X Y Z |
Package 403/419 | Hostname | OS / Arch | BUILD | CHECK | BUILD BIN | ||||
tkWidgets 1.28.0 J. Zhang
| lamb2 | Linux (openSUSE 11.2) / x86_64 | OK | OK | |||||
liverpool | Windows Server 2003 R2 (32-bit) / x64 | OK | OK | [ OK ] | |||||
gewurz | Windows Server 2008 R2 Enterprise (64-bit) / x64 | OK | OK | OK | |||||
pelham | Mac OS X Leopard (10.5.8) / i386 | OK | OK | OK |
Package: tkWidgets |
Version: 1.28.0 |
Command: E:\biocbld\bbs-2.7-bioc\R\bin\R.exe CMD INSTALL --build --library=tkWidgets.buildbin-libdir tkWidgets_1.28.0.tar.gz |
StartedAt: 2011-03-31 09:12:23 -0700 (Thu, 31 Mar 2011) |
EndedAt: 2011-03-31 09:12:34 -0700 (Thu, 31 Mar 2011) |
EllapsedTime: 11.6 seconds |
RetCode: 0 |
Status: OK |
PackageFile: tkWidgets_1.28.0.zip |
PackageFileSize: 476.2 KiB |
* installing *source* package 'tkWidgets' ... ** R ** inst ** preparing package for lazy loading Loading required package: tcltk Loading Tcl/Tk interface ... done Loading required package: Biobase Welcome to Bioconductor Vignettes contain introductory material. To view, type 'openVignette()'. To cite Bioconductor, see 'citation("Biobase")' and for packages 'citation(pkgname)'. ** help *** installing help indices ** building package indices ... ** testing if installed package can be loaded * MD5 sums packaged installation of 'tkWidgets' as tkWidgets_1.28.0.zip * DONE (tkWidgets)