Back to the "Multiple platform build/check report" | A B C [D] E F G H I J K L M N O P Q R S T U V W X Y Z |
Package 110/419 | Hostname | OS / Arch | BUILD | CHECK | BUILD BIN | ||||
DFP 1.8.0 Rodrigo Alvarez-Glez
| lamb2 | Linux (openSUSE 11.2) / x86_64 | OK | OK | |||||
liverpool | Windows Server 2003 R2 (32-bit) / x64 | OK | OK | OK | |||||
gewurz | Windows Server 2008 R2 Enterprise (64-bit) / x64 | [ OK ] | OK | OK |
Package: DFP |
Version: 1.8.0 |
Command: chmod a+r DFP -R && D:\biocbld\bbs-2.7-bioc\R\bin\R.exe CMD build --keep-empty-dirs DFP |
StartedAt: 2011-04-07 06:46:08 -0700 (Thu, 07 Apr 2011) |
EndedAt: 2011-04-07 06:46:38 -0700 (Thu, 07 Apr 2011) |
EllapsedTime: 29.6 seconds |
RetCode: 0 |
Status: OK |
PackageFile: DFP_1.8.0.tar.gz |
PackageFileSize: 422.6 KiB |
Warning: unknown option '--keep-empty-dirs' * checking for file 'DFP/DESCRIPTION' ... OK * preparing 'DFP': * checking DESCRIPTION meta-information ... OK * installing the package to re-build vignettes * creating vignettes ... OK * checking for LF line-endings in source and make files * checking for empty or unneeded directories * building 'DFP_1.8.0.tar.gz'