Back to the "Multiple platform build/check report" | A B C D E F G H I J K L M N O P Q R [S] T U V W X Y Z |
Package 378/419 | Hostname | OS / Arch | BUILD | CHECK | BUILD BIN | ||||
SJava 0.76.0 Martin Morgan
| lamb2 | Linux (openSUSE 11.2) / x86_64 | [ OK ] | OK | |||||
liverpool | Windows Server 2003 R2 (32-bit) / x64 | N O T S U P P O R T E D | |||||||
gewurz | Windows Server 2008 R2 Enterprise (64-bit) / x64 | N O T S U P P O R T E D |
Package: SJava |
Version: 0.76.0 |
Command: /home/biocbuild/bbs-2.7-bioc/R/bin/R CMD build SJava |
StartedAt: 2011-04-07 03:15:21 -0700 (Thu, 07 Apr 2011) |
EndedAt: 2011-04-07 03:15:23 -0700 (Thu, 07 Apr 2011) |
EllapsedTime: 1.5 seconds |
RetCode: 0 |
Status: OK |
PackageFile: SJava_0.76.0.tar.gz |
PackageFileSize: 2.108 MiB |
* checking for file ‘SJava/DESCRIPTION’ ... OK * preparing ‘SJava’: * checking DESCRIPTION meta-information ... OK * cleaning src * checking for LF line-endings in source and make files * checking for empty or unneeded directories * building ‘SJava_0.76.0.tar.gz’