Back to the "Multiple platform build/check report" | A B C D E [F] G H I J K L M N O P Q R S T U V W X Y Z |
Package 127/419 | Hostname | OS / Arch | BUILD | CHECK | BUILD BIN | ||||
fabia 1.2.0 Sepp Hochreiter
| lamb2 | Linux (openSUSE 11.2) / x86_64 | OK | OK | |||||
liverpool | Windows Server 2003 R2 (32-bit) / x64 | [ OK ] | OK | OK | |||||
gewurz | Windows Server 2008 R2 Enterprise (64-bit) / x64 | OK | OK | OK |
Package: fabia |
Version: 1.2.0 |
Command: chmod a+r fabia -R && E:\biocbld\bbs-2.7-bioc\R\bin\R.exe CMD build --keep-empty-dirs fabia |
StartedAt: 2011-04-07 05:12:51 -0700 (Thu, 07 Apr 2011) |
EndedAt: 2011-04-07 05:13:17 -0700 (Thu, 07 Apr 2011) |
EllapsedTime: 25.9 seconds |
RetCode: 0 |
Status: OK |
PackageFile: fabia_1.2.0.tar.gz |
PackageFileSize: 1015 KiB |
Warning: unknown option '--keep-empty-dirs' * checking for file 'fabia/DESCRIPTION' ... OK * preparing 'fabia': * checking DESCRIPTION meta-information ... OK * cleaning src * installing the package to re-build vignettes * creating vignettes ... OK * cleaning src * checking for LF line-endings in source and make files * checking for empty or unneeded directories * building 'fabia_1.2.0.tar.gz'