Back to the "Multiple platform build/check report" | A B C D E F [G] H I J K L M N O P Q R S T U V W X Y Z |
Package 176/419 | Hostname | OS / Arch | BUILD | CHECK | BUILD BIN | ||||
GGBase 3.10.0 Vince Carey
| lamb2 | Linux (openSUSE 11.2) / x86_64 | OK | OK | |||||
liverpool | Windows Server 2003 R2 (32-bit) / x64 | OK | OK | OK | |||||
gewurz | Windows Server 2008 R2 Enterprise (64-bit) / x64 | OK | OK | OK | |||||
pelham | Mac OS X Leopard (10.5.8) / i386 | OK | OK | [ OK ] |
Package: GGBase |
Version: 3.10.0 |
Command: /Users/biocbuild/BBS/utils/build-universal.sh GGBase_3.10.0.tar.gz /Library/Frameworks/R.framework/Versions/2.12/Resources/bin/R GGBase.buildbin-libdir |
StartedAt: 2011-03-31 08:36:57 -0700 (Thu, 31 Mar 2011) |
EndedAt: 2011-03-31 08:37:55 -0700 (Thu, 31 Mar 2011) |
EllapsedTime: 57.9 seconds |
RetCode: 0 |
Status: OK |
PackageFile: GGBase_3.10.0.tgz |
PackageFileSize: 48.19 MiB |
>>>>>>> >>>>>>> INSTALLATION WITH 'R CMD INSTALL --preclean --library=GGBase.buildbin-libdir GGBase_3.10.0.tar.gz' >>>>>>> * installing *source* package ‘GGBase’ ... ** R ** data ** inst ** preparing package for lazy loading Welcome to Bioconductor Vignettes contain introductory material. To view, type 'openVignette()'. To cite Bioconductor, see 'citation("Biobase")' and for packages 'citation(pkgname)'. Loading required package: survival Loading required package: splines Loading required package: DBI ** help *** installing help indices ** building package indices ... ** testing if installed package can be loaded * DONE (GGBase)