Back to the "Multiple platform build/check report" | A B C D E F [G] H I J K L M N O P Q R S T U V W X Y Z |
Package 165/419 | Hostname | OS / Arch | BUILD | CHECK | BUILD BIN | ||||
GeneTraffic 1.22.0 Daniel Iordan
| lamb2 | Linux (openSUSE 11.2) / x86_64 | [ OK ] | WARNINGS | |||||
liverpool | Windows Server 2003 R2 (32-bit) / x64 | OK | WARNINGS | OK | |||||
gewurz | Windows Server 2008 R2 Enterprise (64-bit) / x64 | OK | WARNINGS | OK |
Package: GeneTraffic |
Version: 1.22.0 |
Command: /home/biocbuild/bbs-2.7-bioc/R/bin/R CMD build GeneTraffic |
StartedAt: 2011-04-07 01:48:10 -0700 (Thu, 07 Apr 2011) |
EndedAt: 2011-04-07 01:48:11 -0700 (Thu, 07 Apr 2011) |
EllapsedTime: 0.5 seconds |
RetCode: 0 |
Status: OK |
PackageFile: GeneTraffic_1.22.0.tar.gz |
PackageFileSize: 176.9 KiB |
* checking for file ‘GeneTraffic/DESCRIPTION’ ... OK * preparing ‘GeneTraffic’: * checking DESCRIPTION meta-information ... OK * checking for LF line-endings in source and make files * checking for empty or unneeded directories * building ‘GeneTraffic_1.22.0.tar.gz’