Back to the "Multiple platform build/check report" | A B [C] D E F G H I J K L M N O P Q R S T U V W X Y Z |
Package 73/419 | Hostname | OS / Arch | BUILD | CHECK | BUILD BIN | ||||
cghMCR 1.8.0 J. Zhang
| lamb2 | Linux (openSUSE 11.2) / x86_64 | OK | WARNINGS | |||||
liverpool | Windows Server 2003 R2 (32-bit) / x64 | [ OK ] | WARNINGS | OK | |||||
gewurz | Windows Server 2008 R2 Enterprise (64-bit) / x64 | OK | WARNINGS | OK |
Package: cghMCR |
Version: 1.8.0 |
Command: chmod a+r cghMCR -R && E:\biocbld\bbs-2.7-bioc\R\bin\R.exe CMD build --keep-empty-dirs cghMCR |
StartedAt: 2011-04-07 03:39:13 -0700 (Thu, 07 Apr 2011) |
EndedAt: 2011-04-07 03:41:24 -0700 (Thu, 07 Apr 2011) |
EllapsedTime: 131.2 seconds |
RetCode: 0 |
Status: OK |
PackageFile: cghMCR_1.8.0.tar.gz |
PackageFileSize: 36.02 MiB |
Warning: unknown option '--keep-empty-dirs' * checking for file 'cghMCR/DESCRIPTION' ... OK * preparing 'cghMCR': * checking DESCRIPTION meta-information ... OK * installing the package to re-build vignettes * creating vignettes ... OK * checking for LF line-endings in source and make files * checking for empty or unneeded directories * building 'cghMCR_1.8.0.tar.gz'