Back to the "Multiple platform build/check report" | A B C D E F G [H] I J K L M N O P Q R S T U V W X Y Z |
Package 204/419 | Hostname | OS / Arch | BUILD | CHECK | BUILD BIN | ||||
hyperdraw 1.2.0 Paul Murrell
| lamb2 | Linux (openSUSE 11.2) / x86_64 | OK | OK | |||||
liverpool | Windows Server 2003 R2 (32-bit) / x64 | OK | OK | [ OK ] | |||||
gewurz | Windows Server 2008 R2 Enterprise (64-bit) / x64 | OK | OK | OK |
Package: hyperdraw |
Version: 1.2.0 |
Command: E:\biocbld\bbs-2.7-bioc\R\bin\R.exe CMD INSTALL --build --library=hyperdraw.buildbin-libdir hyperdraw_1.2.0.tar.gz |
StartedAt: 2011-04-07 09:29:12 -0700 (Thu, 07 Apr 2011) |
EndedAt: 2011-04-07 09:29:14 -0700 (Thu, 07 Apr 2011) |
EllapsedTime: 2.6 seconds |
RetCode: 0 |
Status: OK |
PackageFile: hyperdraw_1.2.0.zip |
PackageFileSize: 202.9 KiB |
* installing *source* package 'hyperdraw' ... ** R ** inst ** preparing package for lazy loading Attaching package: 'hypergraph' The following object(s) are masked from 'package:utils': head, tail Creating a generic for 'graphLayout' in package 'hyperdraw' (the supplied definition differs from and overrides the implicit generic in package 'Rgraphviz': Classes: "nonstandardGenericFunction", "standardGeneric") ** help *** installing help indices ** building package indices ... ** testing if installed package can be loaded * MD5 sums packaged installation of 'hyperdraw' as hyperdraw_1.2.0.zip * DONE (hyperdraw)